BEGIN:VCALENDAR
VERSION:2.0
BEGIN:VEVENT
DTSTART:20260627T150000Z
DTEND:20260628T190000Z
SUMMARY:Fjällmaraton Gastronomi Trillevallen/Ottsjö
LOCATION:Trillevallen/Ottsjö
END:VEVENT
END:VCALENDAR
